BEGIN:VCALENDAR
VERSION:2.0
PRODID:-//Simon Kenton Council - ECPv6.15.20//NONSGML v1.0//EN
CALSCALE:GREGORIAN
METHOD:PUBLISH
X-ORIGINAL-URL:https://skcscouts.org
X-WR-CALDESC:Events for Simon Kenton Council
REFRESH-INTERVAL;VALUE=DURATION:PT1H
X-Robots-Tag:noindex
X-PUBLISHED-TTL:PT1H
BEGIN:VTIMEZONE
TZID:America/New_York
BEGIN:DAYLIGHT
TZOFFSETFROM:-0500
TZOFFSETTO:-0400
TZNAME:EDT
DTSTART:20230312T070000
END:DAYLIGHT
BEGIN:STANDARD
TZOFFSETFROM:-0400
TZOFFSETTO:-0500
TZNAME:EST
DTSTART:20231105T060000
END:STANDARD
BEGIN:DAYLIGHT
TZOFFSETFROM:-0500
TZOFFSETTO:-0400
TZNAME:EDT
DTSTART:20240310T070000
END:DAYLIGHT
BEGIN:STANDARD
TZOFFSETFROM:-0400
TZOFFSETTO:-0500
TZNAME:EST
DTSTART:20241103T060000
END:STANDARD
BEGIN:DAYLIGHT
TZOFFSETFROM:-0500
TZOFFSETTO:-0400
TZNAME:EDT
DTSTART:20250309T070000
END:DAYLIGHT
BEGIN:STANDARD
TZOFFSETFROM:-0400
TZOFFSETTO:-0500
TZNAME:EST
DTSTART:20251102T060000
END:STANDARD
END:VTIMEZONE
BEGIN:VEVENT
DTSTART;TZID=America/New_York:20240602T130000
DTEND;TZID=America/New_York:20240608T110000
DTSTAMP:20260424T110056
CREATED:20221222T163332Z
LAST-MODIFIED:20231114T172435Z
UID:10000299-1717333200-1717844400@skcscouts.org
SUMMARY:NYLT Course 2
DESCRIPTION:NYLT Course 2\nWhere: Camp Oyo \nWhen:  June 2-8\, 2024 \nCost: $250 \nScouts must be 13 years of age or older and at least 1st Class to participate! \nNYLT is a 6-day experience based on the activities of a typical unit during a month of program. The course is a combination of classroom and practical exercises\, all taught by a youth-led staff\, modeling the best in leadership skills\, using the teaching E.D.G.E. \nThe course is about vision based team building with a wide variety of fun and challenging activities. The experience provides an opportunity for the participant to meet and develop teams from Crews\, Troops and Ships from all over the Council’s diverse membership. This experience should model those times in scouting\, school and future activities where it is required to form working teams from complete strangers\, and accomplish leadership training activities\, having fun while making permanent friends. \nRegister
URL:https://skcscouts.org/event/nylt-course-2-2024/
LOCATION:Camp Oyo\, 168 Shawnee Rd\, West Portsmouth\, OH\, 45663\, United States
CATEGORIES:Daybreak,Frontier District,Gateway,NYLT,Polaris,Youth Training
END:VEVENT
BEGIN:VEVENT
DTSTART;TZID=America/New_York:20240517T170000
DTEND;TZID=America/New_York:20240519T110000
DTSTAMP:20260424T110056
CREATED:20220511T162907Z
LAST-MODIFIED:20231213T192109Z
UID:10000196-1715965200-1716116400@skcscouts.org
SUMMARY:Frontier District Spring Cub Olympics 2024
DESCRIPTION:Frontier District Spring Cub Olympics\nThe cubs will compete in “Olympic” inspired events that have been enhanced for cub scouts. skill relays\, field events\, shooting sports and other “Olympic ” activities will challenge your cubs and entertain all.\nWhen: Friday\, May 17\, 2024 – Sunday\, May 19\, 2024\nWhere: Camp Oyo\nCost: $20 per Scout (Before Monday\, April 29\, 2024) | $25 per Scout (Starting April 29\, 2024)\nCheck-In: Friday\, May 17 at 5 PM\nCheck-Out: Sunday\, May 19 at 11:00 AM \nRegistration deadline: Friday\, May10\, 2024 at 11:59 PM \nREGISTER
URL:https://skcscouts.org/event/frontier-district-spring-cub-olympics-2024/
LOCATION:Camp Oyo\, 168 Shawnee Rd\, West Portsmouth\, OH\, 45663\, United States
CATEGORIES:Cub Scout Activities,Districts,Frontier District,Youth Activities
END:VEVENT
BEGIN:VEVENT
DTSTART;TZID=America/New_York:20240504T080000
DTEND;TZID=America/New_York:20240505T180000
DTSTAMP:20260424T110056
CREATED:20231128T212239Z
LAST-MODIFIED:20231128T212312Z
UID:10000394-1714809600-1714932000@skcscouts.org
SUMMARY:2024 Wilderness First Aid
DESCRIPTION:The Wilderness First Aid course provides an intensive 18+ hours of training covering injury assessment\, rescuer safety\, bleeding\, shock\, orthopedic injuries\, long term patient care\, and treatment with materials at hand during practice sessions. \nWhen you are participating in outdoor activities that take you more than 1 hour away from medical care\, wilderness first aid provides a significant difference in survival and effects of injuries. \nThe cost for the Wilderness First Aid course is $100 per person and you must attend both days from 8AM to 6PM each day. EACH STUDENT IS REQUIRED TO BRING THEIR BACKPACK PACKED FOR LAND BASE OUTDOOR ADVENTURES. BRING LUNCH\, SNACKS\, DRINKS\, AND BE PREPARED TO BE OUTDOORS (no matter what the weather.) \nInstruction is in a classroom setting with some sections held outdoors\, so please plan accordingly and dress for the weather. \nCertification includes:\nWilderness First Aid – 2 year\nCPR\AED – Adult\Child and Infant – 2 year \nThis course is a requirement for units traveling to a BSA National High Adventure such as Philmont\, Northern Tier\, SeaBase\, Summit or participating in some high adventure activities when medical help may be delayed. \nParticipants MUST be 14 years of age or older in order to participate\, at the time of the course! \nCourse is limited to 20 participants (first come first serve). \nNO REFUNDS! \nQuestions? Please contact Robin White at jamommy@gmail.com \nRegister
URL:https://skcscouts.org/event/2024-wilderness-first-aid/2024-05-04/
LOCATION:Camp Lazarus\, 4422 Columbus Pike\, Delaware\, OH\, 43015\, United States
CATEGORIES:Adult Training,Central,Council,Daybreak,Districts,Frontier District,Gateway,Polaris,Youth Training
ORGANIZER;CN="Robin White":MAILTO:jamommy@gmail.com
END:VEVENT
BEGIN:VEVENT
DTSTART;TZID=America/New_York:20240504T080000
DTEND;TZID=America/New_York:20240505T170000
DTSTAMP:20260424T110056
CREATED:20230223T154024Z
LAST-MODIFIED:20240104T143753Z
UID:10000369-1714809600-1714928400@skcscouts.org
SUMMARY:Frontier District Introduction to Outdoor Leader Skills (IOLS)
DESCRIPTION:Frontier District Introduction to Outdoor Leader Skills (IOLS)\nIntroduction to Outdoor Leader Skills (IOLS) gives adult leaders the practical knowledge they need to help Scouts to learn outdoor skills. The skills presented closely follow the Boy Scout Handbook and rank advancement requirements. All the skills from Tenderfoot to First Class are covered in this training. \nThis is a required training course for all Scoutmaster and Assistant Scoutmasters. It is also encouraged for anyone who will be participating on campouts regularly to consider taking this class. The training is designed to help all adult leaders regardless of experience level feel comfortable performing and supervising these skills with youth. \nWhen: May 4 – May 5\, 2024\nWhere: Camp Oyo\nTime: Saturday at 8 AM – Sunday at 5:00 PM\nCost: $25 per person \nRegistration deadline is Friday\, April 19\, 2024 \nQuestions? Contact:\nDave Lucas (p) 740-534-8557 \nREGISTER
URL:https://skcscouts.org/event/frontier-district-introduction-to-outdoor-leader-skills-iols/
LOCATION:Camp Oyo\, 168 Shawnee Rd\, West Portsmouth\, OH\, 45663\, United States
CATEGORIES:Adult Scouts BSA Training,Adult Training,Districts,Frontier District,Training
END:VEVENT
BEGIN:VEVENT
DTSTART;TZID=America/New_York:20240426T170000
DTEND;TZID=America/New_York:20240428T110000
DTSTAMP:20260424T110056
CREATED:20221011T153230Z
LAST-MODIFIED:20231213T193602Z
UID:10000302-1714150800-1714302000@skcscouts.org
SUMMARY:Frontier Spring Camporee
DESCRIPTION:Come test your survival scout skills this spring at Camp Oyo. Are you ready to face the great outdoors with your knowledge of ropes\, first aid\, fire building and other scout skills? \nWhen: April 26 – April 28\, 2024 starting at 5:00 PM \nWhere: Camp Oyo \nCost: $20 youth\, $10 adult \nQuestions? Les Davisson \nREGISTER\n 
URL:https://skcscouts.org/event/frontiers-spring-camporee-oyos-amazing-race/
LOCATION:Camp Oyo\, 168 Shawnee Rd\, West Portsmouth\, OH\, 45663\, United States
CATEGORIES:Daybreak,Frontier District,Gateway,Polaris,Youth Activities
END:VEVENT
END:VCALENDAR