BEGIN:VCALENDAR
VERSION:2.0
PRODID:-//Simon Kenton Council - ECPv6.15.20//NONSGML v1.0//EN
CALSCALE:GREGORIAN
METHOD:PUBLISH
X-WR-CALNAME:Simon Kenton Council
X-ORIGINAL-URL:https://skcscouts.org
X-WR-CALDESC:Events for Simon Kenton Council
REFRESH-INTERVAL;VALUE=DURATION:PT1H
X-Robots-Tag:noindex
X-PUBLISHED-TTL:PT1H
BEGIN:VTIMEZONE
TZID:America/New_York
BEGIN:DAYLIGHT
TZOFFSETFROM:-0500
TZOFFSETTO:-0400
TZNAME:EDT
DTSTART:20230312T070000
END:DAYLIGHT
BEGIN:STANDARD
TZOFFSETFROM:-0400
TZOFFSETTO:-0500
TZNAME:EST
DTSTART:20231105T060000
END:STANDARD
BEGIN:DAYLIGHT
TZOFFSETFROM:-0500
TZOFFSETTO:-0400
TZNAME:EDT
DTSTART:20240310T070000
END:DAYLIGHT
BEGIN:STANDARD
TZOFFSETFROM:-0400
TZOFFSETTO:-0500
TZNAME:EST
DTSTART:20241103T060000
END:STANDARD
BEGIN:DAYLIGHT
TZOFFSETFROM:-0500
TZOFFSETTO:-0400
TZNAME:EDT
DTSTART:20250309T070000
END:DAYLIGHT
BEGIN:STANDARD
TZOFFSETFROM:-0400
TZOFFSETTO:-0500
TZNAME:EST
DTSTART:20251102T060000
END:STANDARD
END:VTIMEZONE
BEGIN:VEVENT
DTSTART;TZID=America/New_York:20240503T180000
DTEND;TZID=America/New_York:20240505T180000
DTSTAMP:20260424T171529
CREATED:20231103T190115Z
LAST-MODIFIED:20231103T190115Z
UID:10000386-1714759200-1714932000@skcscouts.org
SUMMARY:2024 C.E.R.T. Camporee
DESCRIPTION:Come out and learn about the Community Emergency Response Team.\nTake the training that has been developed by FEMA and the state emergency management agency. Get practical experience with first aid\, search and rescue\, communication and team coordination. There will be a mock disaster on Sunday. \nRegister Here!
URL:https://skcscouts.org/event/2024-c-e-r-t-camporee/
LOCATION:Camp Lazarus\, 4422 Columbus Pike\, Delaware\, OH\, 43015\, United States
CATEGORIES:Council,Daybreak,Polaris
ORGANIZER;CN="Adam Roberts":MAILTO:roberts.349@gmail.com
END:VEVENT
BEGIN:VEVENT
DTSTART;TZID=America/New_York:20240503T180000
DTEND;TZID=America/New_York:20240505T100000
DTSTAMP:20260424T171529
CREATED:20220728T145800Z
LAST-MODIFIED:20230204T132647Z
UID:10000069-1714759200-1714903200@skcscouts.org
SUMMARY:2024 Polaris District Spring Camporee
DESCRIPTION:2024 Polaris Spring Camporee\nSpring Camporee Details Coming Soon \nWhen: May 3-5\, 2024\nWhere: Camp Lazarus\nTime: Friday at 6 PM – Sunday at 10 AM\nCost: $15 per person \nRegistration deadline is Friday\, April 19\, 2024 \nQuestions? Contact:\nJT Trouten at (937)-243-3079 or jtrout71@gmail.com \nRegister
URL:https://skcscouts.org/event/2024-polaris-district-spring-camporee/
LOCATION:Camp Lazarus\, 4422 Columbus Pike\, Delaware\, OH\, 43015\, United States
CATEGORIES:Districts,Polaris,Scouts BSA Activities,Youth Activities
END:VEVENT
BEGIN:VEVENT
DTSTART;TZID=America/New_York:20240426T170000
DTEND;TZID=America/New_York:20240428T110000
DTSTAMP:20260424T171529
CREATED:20221011T153230Z
LAST-MODIFIED:20231213T193602Z
UID:10000302-1714150800-1714302000@skcscouts.org
SUMMARY:Frontier Spring Camporee
DESCRIPTION:Come test your survival scout skills this spring at Camp Oyo. Are you ready to face the great outdoors with your knowledge of ropes\, first aid\, fire building and other scout skills? \nWhen: April 26 – April 28\, 2024 starting at 5:00 PM \nWhere: Camp Oyo \nCost: $20 youth\, $10 adult \nQuestions? Les Davisson \nREGISTER\n 
URL:https://skcscouts.org/event/frontiers-spring-camporee-oyos-amazing-race/
LOCATION:Camp Oyo\, 168 Shawnee Rd\, West Portsmouth\, OH\, 45663\, United States
CATEGORIES:Daybreak,Frontier District,Gateway,Polaris,Youth Activities
END:VEVENT
END:VCALENDAR