BEGIN:VCALENDAR
VERSION:2.0
PRODID:-//Simon Kenton Council - ECPv6.15.20//NONSGML v1.0//EN
CALSCALE:GREGORIAN
METHOD:PUBLISH
X-ORIGINAL-URL:https://skcscouts.org
X-WR-CALDESC:Events for Simon Kenton Council
REFRESH-INTERVAL;VALUE=DURATION:PT1H
X-Robots-Tag:noindex
X-PUBLISHED-TTL:PT1H
BEGIN:VTIMEZONE
TZID:America/New_York
BEGIN:DAYLIGHT
TZOFFSETFROM:-0500
TZOFFSETTO:-0400
TZNAME:EDT
DTSTART:20230312T070000
END:DAYLIGHT
BEGIN:STANDARD
TZOFFSETFROM:-0400
TZOFFSETTO:-0500
TZNAME:EST
DTSTART:20231105T060000
END:STANDARD
BEGIN:DAYLIGHT
TZOFFSETFROM:-0500
TZOFFSETTO:-0400
TZNAME:EDT
DTSTART:20240310T070000
END:DAYLIGHT
BEGIN:STANDARD
TZOFFSETFROM:-0400
TZOFFSETTO:-0500
TZNAME:EST
DTSTART:20241103T060000
END:STANDARD
BEGIN:DAYLIGHT
TZOFFSETFROM:-0500
TZOFFSETTO:-0400
TZNAME:EDT
DTSTART:20250309T070000
END:DAYLIGHT
BEGIN:STANDARD
TZOFFSETFROM:-0400
TZOFFSETTO:-0500
TZNAME:EST
DTSTART:20251102T060000
END:STANDARD
END:VTIMEZONE
BEGIN:VEVENT
DTSTART;TZID=America/New_York:20241004T190000
DTEND;TZID=America/New_York:20241006T090000
DTSTAMP:20260424T064617
CREATED:20240104T164318Z
LAST-MODIFIED:20240104T164318Z
UID:10000405-1728068400-1728205200@skcscouts.org
SUMMARY:OA Fall Fellowship
DESCRIPTION:Tecumseh Lodge Order of the Arrow 2024 Fall Fellowship\nOctober 4-6 at Camp Falling Rock \nCome join us for a weekend of fun and fellowship. This is a chance to enjoy yourself for the weekend\, without worrying about work crews and doing service projects all day. The cost is just $20.00 for an entire weekend of food and fun if you register before Midnight Sunday\, September 29th. After that the price goes up to $25.00. \nRegister
URL:https://skcscouts.org/event/oa-fall-fellowship/
LOCATION:Camp Falling Rock\, 12637 Houdeshell Rd\, Newark\, OH\, 43055\, United States
CATEGORIES:Order of the Arrow
END:VEVENT
BEGIN:VEVENT
DTSTART;TZID=America/New_York:20240920T190000
DTEND;TZID=America/New_York:20240922T090000
DTSTAMP:20260424T064617
CREATED:20240104T163521Z
LAST-MODIFIED:20240104T170934Z
UID:10000404-1726858800-1726995600@skcscouts.org
SUMMARY:2024 Camp Falling Rock Ordeal/Brotherhood
DESCRIPTION:Tecumseh Lodge \nOrder of the Arrow\, Simon Kenton Council\, BSA \nOrdeal / Brotherhood Weekend \nSeptember 20 – 22\, 2024 at Camp Falling Rock \nThis will be our last Ordeal of the season so come out and join us. We will need help in all areas to assist our new members on their voyage through the Order of the Arrow. \nWould you like to seal your membership in the OA by taking your Brotherhood? You can do it here for just an additional $25.00. If you took your Ordeal in 2022 or before you’re eligible. \nIf you are a new member that took your Ordeal in 2024 and would like to return to help at another ordeal this year\, you can do so for free. Just choose “OA New Member who took their ordeal this year” on the next page. It will be the last choice in the registration type menu. \nIf you are a new candidate you MUST complete the written Candidate Registration Form which was mailed to you (or it is available from the Attachments box located to the right of this notice) and either mail it in at least 7 days before the event or bring it with you to the event. If you do not have this form you will NOT be permitted to attend the event. \nYou MUST have been elected into the OA by your Unit after October\, 2022 to be eligible to take your Ordeal and join the OA. \nQuestions? Contact Jon Santini II or Tony Kovinchick \nRegister
URL:https://skcscouts.org/event/2024-camp-falling-rock-ordeal-brotherhood/
LOCATION:Camp Falling Rock\, 12637 Houdeshell Rd\, Newark\, OH\, 43055\, United States
CATEGORIES:Order of the Arrow
END:VEVENT
BEGIN:VEVENT
DTSTART;TZID=America/New_York:20240816T200000
DTEND;TZID=America/New_York:20240818T090000
DTSTAMP:20260424T064617
CREATED:20230612T142958Z
LAST-MODIFIED:20240104T172442Z
UID:10000236-1723838400-1723971600@skcscouts.org
SUMMARY:2024 Camp Oyo Ordeal/Brotherhood
DESCRIPTION:Tecumseh Lodge \nOrder of the Arrow\, Simon Kenton Council\, BSA \nOrdeal / Brotherhood Weekend \nAugust 16 – 18\, 2024 at Camp Oyo \nThis will be our second Ordeal of the season so come out and join us. We will need help in all areas to assist our new members on their voyage through the Order of the Arrow. \nWould you like to seal your membership in the OA by taking your Brotherhood? You can do it here for just an additional $25.00. If you took your Ordeal in 2023 or before you’re eligible. \nIf you are a new member that took your Ordeal in 2024 and would like to return to help at another ordeal this year\, you can do so for free. Just choose “OA New Member who took their ordeal this year” on the next page. It will be the last choice in the registration type menu.  \nIf you are a new candidate you MUST complete the written Candidate Registration Form which was mailed to you (or it is available from the Attachments box located to the right of this notice) and either mail it in at least 7 days before the event or bring it with you to the event. If you do not have this form you will NOT be permitted to attend the event. \nYou MUST have been elected into the OA by your Unit after October\, 2022 to be eligible to take your Ordeal and join the OA. \nQuestions? Contact Jon Santini II or Tony Kovinchick \nRegister
URL:https://skcscouts.org/event/2024-camp-oyo-ordeal/
LOCATION:Camp Oyo\, 168 Shawnee Rd\, West Portsmouth\, OH\, 45663\, United States
CATEGORIES:Order of the Arrow
END:VEVENT
BEGIN:VEVENT
DTSTART;TZID=America/New_York:20240531T190000
DTEND;TZID=America/New_York:20240602T090000
DTSTAMP:20260424T064617
CREATED:20240103T232045Z
LAST-MODIFIED:20240103T232045Z
UID:10000403-1717182000-1717318800@skcscouts.org
SUMMARY:2024 Camp Lazarus Ordeal/Brotherhood
DESCRIPTION:Tecumseh Lodge \nOrder of the Arrow\, Simon Kenton Council\, BSA \nOrdeal / Brotherhood Weekend \nMay 31 – June 2\, 2024 at Camp Lazarus \nThis will be our first Ordeal of the season so come out and join us. We will need help in all areas to assist our new members on their voyage through the Order of the Arrow. \n Would you like to seal your membership in the OA by taking your Brotherhood? You can do it here for just an additional $25.00. If you took your Ordeal in 2023 or before you’re eligible. Just choose the Brotherhood option when you register and pay. \nIf you are a new candidate you MUST complete the written Candidate Registration Form which was mailed to you (or it is available from the Attachments box located to the right of this notice) and either mail it in at least 7 days before the event or bring it with you to the event. If you do not have this form you will NOT be permitted to attend the event. \nYou MUST have been elected into the OA by your Unit after October\, 2022 to be eligible to take your Ordeal and join the OA. \nQuestions? Contact Jon Santini II – jon@jsoptics.com \nRegister
URL:https://skcscouts.org/event/2024-camp-lazarus-ordeal/
LOCATION:Camp Lazarus\, 4422 Columbus Pike\, Delaware\, OH\, 43015\, United States
CATEGORIES:Order of the Arrow
END:VEVENT
END:VCALENDAR