BEGIN:VCALENDAR
VERSION:2.0
PRODID:-//Simon Kenton Council - ECPv6.15.20//NONSGML v1.0//EN
CALSCALE:GREGORIAN
METHOD:PUBLISH
X-ORIGINAL-URL:https://skcscouts.org
X-WR-CALDESC:Events for Simon Kenton Council
REFRESH-INTERVAL;VALUE=DURATION:PT1H
X-Robots-Tag:noindex
X-PUBLISHED-TTL:PT1H
BEGIN:VTIMEZONE
TZID:America/New_York
BEGIN:DAYLIGHT
TZOFFSETFROM:-0500
TZOFFSETTO:-0400
TZNAME:EDT
DTSTART:20230312T070000
END:DAYLIGHT
BEGIN:STANDARD
TZOFFSETFROM:-0400
TZOFFSETTO:-0500
TZNAME:EST
DTSTART:20231105T060000
END:STANDARD
BEGIN:DAYLIGHT
TZOFFSETFROM:-0500
TZOFFSETTO:-0400
TZNAME:EDT
DTSTART:20240310T070000
END:DAYLIGHT
BEGIN:STANDARD
TZOFFSETFROM:-0400
TZOFFSETTO:-0500
TZNAME:EST
DTSTART:20241103T060000
END:STANDARD
BEGIN:DAYLIGHT
TZOFFSETFROM:-0500
TZOFFSETTO:-0400
TZNAME:EDT
DTSTART:20250309T070000
END:DAYLIGHT
BEGIN:STANDARD
TZOFFSETFROM:-0400
TZOFFSETTO:-0500
TZNAME:EST
DTSTART:20251102T060000
END:STANDARD
END:VTIMEZONE
BEGIN:VEVENT
DTSTART;TZID=America/New_York:20240504T080000
DTEND;TZID=America/New_York:20240505T170000
DTSTAMP:20260424T052833
CREATED:20230223T154024Z
LAST-MODIFIED:20240104T143753Z
UID:10000369-1714809600-1714928400@skcscouts.org
SUMMARY:Frontier District Introduction to Outdoor Leader Skills (IOLS)
DESCRIPTION:Frontier District Introduction to Outdoor Leader Skills (IOLS)\nIntroduction to Outdoor Leader Skills (IOLS) gives adult leaders the practical knowledge they need to help Scouts to learn outdoor skills. The skills presented closely follow the Boy Scout Handbook and rank advancement requirements. All the skills from Tenderfoot to First Class are covered in this training. \nThis is a required training course for all Scoutmaster and Assistant Scoutmasters. It is also encouraged for anyone who will be participating on campouts regularly to consider taking this class. The training is designed to help all adult leaders regardless of experience level feel comfortable performing and supervising these skills with youth. \nWhen: May 4 – May 5\, 2024\nWhere: Camp Oyo\nTime: Saturday at 8 AM – Sunday at 5:00 PM\nCost: $25 per person \nRegistration deadline is Friday\, April 19\, 2024 \nQuestions? Contact:\nDave Lucas (p) 740-534-8557 \nREGISTER
URL:https://skcscouts.org/event/frontier-district-introduction-to-outdoor-leader-skills-iols/
LOCATION:Camp Oyo\, 168 Shawnee Rd\, West Portsmouth\, OH\, 45663\, United States
CATEGORIES:Adult Scouts BSA Training,Adult Training,Districts,Frontier District,Training
END:VEVENT
BEGIN:VEVENT
DTSTART;TZID=America/New_York:20240502T190000
DTEND;TZID=America/New_York:20240502T203000
DTSTAMP:20260424T052833
CREATED:20221219T160836Z
LAST-MODIFIED:20231128T204932Z
UID:10000314-1714676400-1714681800@skcscouts.org
SUMMARY:May Gateway District Roundtable
DESCRIPTION:May 2nd\, 2024: Gateway District Roundtable.\nCome along to meet new and old friends\, fellowship\, and fun!\n \nThis month’s topic: \nJoint Session: Leave No Trace \nLocation: Resurrection Evangelical Lutheran Church\,\n3500 Main St.\, Hilliard\, Ohio 43026 \nQuestions: Nick Goessl \n 
URL:https://skcscouts.org/event/may-gateway-district-roundtable/
LOCATION:Resurrection Evangelical Lutheran Church\, 3500 Main Street\, Hilliard\, OH\, 43026\, United States
CATEGORIES:Adult Training,Gateway,Roundtables
END:VEVENT
END:VCALENDAR