BEGIN:VCALENDAR
VERSION:2.0
PRODID:-//Simon Kenton Council - ECPv6.15.20//NONSGML v1.0//EN
CALSCALE:GREGORIAN
METHOD:PUBLISH
X-WR-CALNAME:Simon Kenton Council
X-ORIGINAL-URL:https://skcscouts.org
X-WR-CALDESC:Events for Simon Kenton Council
REFRESH-INTERVAL;VALUE=DURATION:PT1H
X-Robots-Tag:noindex
X-PUBLISHED-TTL:PT1H
BEGIN:VTIMEZONE
TZID:America/New_York
BEGIN:DAYLIGHT
TZOFFSETFROM:-0500
TZOFFSETTO:-0400
TZNAME:EDT
DTSTART:20230312T070000
END:DAYLIGHT
BEGIN:STANDARD
TZOFFSETFROM:-0400
TZOFFSETTO:-0500
TZNAME:EST
DTSTART:20231105T060000
END:STANDARD
BEGIN:DAYLIGHT
TZOFFSETFROM:-0500
TZOFFSETTO:-0400
TZNAME:EDT
DTSTART:20240310T070000
END:DAYLIGHT
BEGIN:STANDARD
TZOFFSETFROM:-0400
TZOFFSETTO:-0500
TZNAME:EST
DTSTART:20241103T060000
END:STANDARD
BEGIN:DAYLIGHT
TZOFFSETFROM:-0500
TZOFFSETTO:-0400
TZNAME:EDT
DTSTART:20250309T070000
END:DAYLIGHT
BEGIN:STANDARD
TZOFFSETFROM:-0400
TZOFFSETTO:-0500
TZNAME:EST
DTSTART:20251102T060000
END:STANDARD
END:VTIMEZONE
BEGIN:VEVENT
DTSTART;TZID=America/New_York:20241207T080000
DTEND;TZID=America/New_York:20241207T120000
DTSTAMP:20260424T085748
CREATED:20221222T171013Z
LAST-MODIFIED:20221222T171013Z
UID:10000334-1733558400-1733572800@skcscouts.org
SUMMARY:2024 Breakfast with Santa
DESCRIPTION:Come for breakfast and take your picture with Santa! Mrs. Claus will also have her cookie shop open and Scout skills will be offered. Join Rudolph and his friends for Reindeer Games! \nWhere: Camp Lazarus \nWhen: Saturday\, December 7\, 2024 \nTime: 8:00 am – 12:00 pm \nCost: TBD \nRegister (coming soon)
URL:https://skcscouts.org/event/2024-breakfast-with-santa/
LOCATION:Camp Lazarus\, 4422 Columbus Pike\, Delaware\, OH\, 43015\, United States
CATEGORIES:Daybreak,Frontier District,Gateway,Polaris,Youth Activities
END:VEVENT
BEGIN:VEVENT
DTSTART;TZID=America/New_York:20240928T090000
DTEND;TZID=America/New_York:20240928T160000
DTSTAMP:20260424T085748
CREATED:20221222T164006Z
LAST-MODIFIED:20240812T181127Z
UID:10000327-1727514000-1727539200@skcscouts.org
SUMMARY:2024 Shoot-O-Ree
DESCRIPTION:Howdy Partner! \nRound up the clan and herd them on out to the 2024 Shoot-o-Ree at Camp Lazarus. All Scouts\, siblings and parents are welcome to participate. This is an excellent event for those Scouts who just joined! Come enjoy your favorite activities and many new ones too! \nActivities are available 9:00 AM – 4:00 PM. \nStay for a couple of hours or come the entire day! There will be a variety of activities. Please dress for the weather!\nA Chuck Wagon will be available with lunch and a variety of snacks for sale. \nWhen: Saturday\, September 28\, 2024 \nTime: 9:00 AM – 4:00 PM \nWhere: Camp Lazarus \nCost: $15 pre-registration | $20 at the gate \nRegister
URL:https://skcscouts.org/event/2024-shoot-o-ree/
LOCATION:Camp Lazarus\, 4422 Columbus Pike\, Delaware\, OH\, 43015\, United States
CATEGORIES:Cub Scout Activities,Daybreak,Frontier District,Gateway,Polaris,Youth Activities
END:VEVENT
BEGIN:VEVENT
DTSTART;TZID=America/New_York:20240722T090000
DTEND;TZID=America/New_York:20240726T160000
DTSTAMP:20260424T085748
CREATED:20240126T151611Z
LAST-MODIFIED:20240126T151633Z
UID:10000407-1721638800-1722009600@skcscouts.org
SUMMARY:2024 Rocky Fork Day Camp
DESCRIPTION:Rocky Fork Day Camp: “CUBstruction”\nAre you ready for Cub Scout Day Camp? Then have your Cub Scout grab their gear and join us for an awesome adventure! Scouts will participate in many types of activities including archery\, BB-guns\, field sports\, nature\, arts and crafts\, Scout skills\, and all-around FUN! \nDay Camp youth participants are limited to registered Cub Scouts members. When selecting RANK in your registration\, you should use the den that the Scout will be entering for the 2024-2025 school year.  \n\nTiger (entering 1st grade)\nWolf (entering 2nd grade)\nBear (entering 3rd grade)\nWebelos (entering the 4th grade)\nArrow of Light (entering 5th grade)\n\nWhen: Monday\, July 22 – Friday\, July 26\, 2024\nTime: 9 AM – 4 PM\nWhere: Rocky Fork State Park\nCost: The Early Bird cost of Cub Scout Day camp is $100. (After March 31\, the cost increases to $120 per Scout) \nQuestions? Contact: Abby Howard or Nathan White \nRegistration closes on Monday\, July 11\, 2024 at 11:59 PM \nRegister
URL:https://skcscouts.org/event/2024-rocky-fork-day-camp/
LOCATION:Rocky Fork State Park\, 9800 N Shore Drive\, Hillsboro\, OH\, 45133\, United States
CATEGORIES:Cub Scout Activities,Cub Scout Day Camps,Districts,Frontier District,Youth Activities
END:VEVENT
BEGIN:VEVENT
DTSTART;TZID=America/New_York:20240722T083000
DTEND;TZID=America/New_York:20240726T160000
DTSTAMP:20260424T085748
CREATED:20221222T173527Z
LAST-MODIFIED:20240126T143015Z
UID:10000184-1721637000-1722009600@skcscouts.org
SUMMARY:2024 STEM Day Camp
DESCRIPTION:Are you ready for Cub Scout STEM Day Camp? Then have your Cub Scout grab their lab coats and goggles and join us for an awesome week of Science and FUN! \nCub Scout NOVA Awards:\nUncovering the Past\nDown and Dirty\n1-2-3 GO \nWhen: Monday\, July 22 – Friday\, July 26\, 2024 \nTime: 8:30 AM – 4:00 PM \nWhere: Camp Lazarus \nCost: $100 before April 1 \nQuestions? Contact: Becky Rader or Kami Hisey \nRegister
URL:https://skcscouts.org/event/2024-stem-day-camp/
LOCATION:Camp Lazarus\, 4422 Columbus Pike\, Delaware\, OH\, 43015\, United States
CATEGORIES:Council,Cub Scout Activities,Cub Scout Day Camps,Daybreak,Districts,Frontier District,Gateway,Outdoor Adventures,Polaris,Youth Activities
END:VEVENT
BEGIN:VEVENT
DTSTART;TZID=America/New_York:20240721T140000
DTEND;TZID=America/New_York:20240727T100000
DTSTAMP:20260424T085748
CREATED:20221222T175300Z
LAST-MODIFIED:20240124T164623Z
UID:10000336-1721570400-1722074400@skcscouts.org
SUMMARY:2024 Summer Camp: Week 6
DESCRIPTION:2024 Summer Camp: Week 6\nWhen: July 21-27\, 2024\nWhere: Camp Falling Rock \nRegister
URL:https://skcscouts.org/event/2024-summer-camp-week-6/
LOCATION:Camp Falling Rock\, 12637 Houdeshell Rd\, Newark\, OH\, 43055\, United States
CATEGORIES:Daybreak,Districts,Frontier District,Gateway,Polaris,Scouts BSA Activities,Scouts BSA Resident Camp,Summer Camps,Venturing Activities,Youth Activities
END:VEVENT
BEGIN:VEVENT
DTSTART;TZID=America/New_York:20240715T080000
DTEND;TZID=America/New_York:20240719T170000
DTSTAMP:20260424T085748
CREATED:20221222T173110Z
LAST-MODIFIED:20240126T142614Z
UID:10000183-1721030400-1721408400@skcscouts.org
SUMMARY:2024 Gateway District Day Camp
DESCRIPTION:Gateway District Day Camp: “CUBstruction”\nAre you ready for Cub Scout Day Camp? Then have your Cub Scout grab their gear and join us for an awesome adventure! Scouts will participate in many types of activities including archery\, BB-guns\, field sports\, nature\, arts and crafts\, Scout skills\, and all-around FUN! \nDay Camp youth participants are limited to registered Cub Scouts members. When selecting RANK in your registration\, you should use the den that the Scout will be entering for the 2024-2025 school year.  \n\nTiger (entering 1st grade)\nWolf (entering 2nd grade)\nBear (entering 3rd grade)\nWebelos (entering the 4th grade)\nArrow of Light (entering 5th grade)\n\nWhen: Monday\, July 15 – Friday\, July 19\, 2024\nTime: 8AM – 5 PM\nWhere: Camp Lazarus\nCost: $100 before April 1 \nQuestions? Contact: Amy Kline or Shay Hoelscher \nRegistration closes on TBD \nRegister
URL:https://skcscouts.org/event/2024-gateway-district-day-camp/
LOCATION:Camp Lazarus\, 4422 Columbus Pike\, Delaware\, OH\, 43015\, United States
CATEGORIES:Cub Scout Activities,Cub Scout Day Camps,Districts,Gateway,Youth Activities
END:VEVENT
BEGIN:VEVENT
DTSTART;TZID=America/New_York:20240714T140000
DTEND;TZID=America/New_York:20240720T100000
DTSTAMP:20260424T085748
CREATED:20221222T175050Z
LAST-MODIFIED:20240124T164545Z
UID:10000190-1720965600-1721469600@skcscouts.org
SUMMARY:2024 Summer Camp: Week 5
DESCRIPTION:2024 Summer Camp: Week 5\nWhen: July 14-20\, 2024\nWhere: Camp Falling Rock \nRegister
URL:https://skcscouts.org/event/2024-summer-camp-week-5/
LOCATION:Camp Falling Rock\, 12637 Houdeshell Rd\, Newark\, OH\, 43055\, United States
CATEGORIES:Daybreak,Districts,Frontier District,Gateway,Polaris,Scouts BSA Activities,Scouts BSA Resident Camp,Summer Camps,Venturing Activities,Youth Activities
END:VEVENT
BEGIN:VEVENT
DTSTART;TZID=America/New_York:20240708T080000
DTEND;TZID=America/New_York:20240712T170000
DTSTAMP:20260424T085748
CREATED:20221222T172750Z
LAST-MODIFIED:20240125T215157Z
UID:10000181-1720425600-1720803600@skcscouts.org
SUMMARY:2024 Polaris District Day Camp
DESCRIPTION:Polaris District Day Camp: “CUBstruction”\nAre you ready for Cub Scout Day Camp? Then have your Cub Scout grab their gear and join us for an awesome adventure! Scouts will participate in many types of activities including archery\, BB-guns\, field sports\, nature\, arts and crafts\, Scout skills\, and all-around FUN! \nDay Camp youth participants are limited to registered Cub Scouts members. When selecting RANK in your registration\, you should use the den that the Scout will be entering for the 2024-2025 school year.  \n\nTiger (entering 1st grade)\nWolf (entering 2nd grade)\nBear (entering 3rd grade)\nWebelos (entering the 4th grade)\nArrow of Light (entering 5th grade)\n\nWhen: Monday\, July 8 – Friday\, July 12\, 2024\nTime: 8AM – 5 PM\nWhere: Camp Lazarus\nCost: $100 before April 1 \nQuestions? Contact: Colleen Recker or Tina Dillman \nRegistration closes on June 28 at 11:59pm \nRegister
URL:https://skcscouts.org/event/2024-polaris-district-day-camp/
LOCATION:Camp Lazarus\, 4422 Columbus Pike\, Delaware\, OH\, 43015\, United States
CATEGORIES:Cub Scout Activities,Cub Scout Day Camps,Districts,Polaris,Youth Activities
END:VEVENT
BEGIN:VEVENT
DTSTART;TZID=America/New_York:20240707T140000
DTEND;TZID=America/New_York:20240713T100000
DTSTAMP:20260424T085748
CREATED:20221222T174907Z
LAST-MODIFIED:20240124T164736Z
UID:10000189-1720360800-1720864800@skcscouts.org
SUMMARY:2024 Summer Camp: Week 4
DESCRIPTION:2024 Summer Camp: Week 4\nWhen: July 7-13\, 2024\nWhere: Camp Falling Rock \nRegister
URL:https://skcscouts.org/event/2024-summer-camp-week-4/
LOCATION:Camp Falling Rock\, 12637 Houdeshell Rd\, Newark\, OH\, 43055\, United States
CATEGORIES:Daybreak,Districts,Frontier District,Gateway,Polaris,Scouts BSA Activities,Scouts BSA Resident Camp,Summer Camps,Venturing Activities,Youth Activities
END:VEVENT
BEGIN:VEVENT
DTSTART;TZID=America/New_York:20240630T140000
DTEND;TZID=America/New_York:20240706T100000
DTSTAMP:20260424T085748
CREATED:20221222T174728Z
LAST-MODIFIED:20240124T164403Z
UID:10000188-1719756000-1720260000@skcscouts.org
SUMMARY:2024 Summer Camp: Week 3
DESCRIPTION:2024 Summer Camp: Week 3\nWhen: June 30 – July 6\, 2024\nWhere: Camp Falling Rock \nRegister
URL:https://skcscouts.org/event/2024-summer-camp-week-3/
LOCATION:Camp Falling Rock\, 12637 Houdeshell Rd\, Newark\, OH\, 43055\, United States
CATEGORIES:Daybreak,Districts,Frontier District,Gateway,Polaris,Scouts BSA Activities,Scouts BSA Resident Camp,Summer Camps,Venturing Activities,Youth Activities
END:VEVENT
BEGIN:VEVENT
DTSTART;TZID=America/New_York:20240624T080000
DTEND;TZID=America/New_York:20240628T170000
DTSTAMP:20260424T085748
CREATED:20221222T172451Z
LAST-MODIFIED:20240125T213946Z
UID:10000179-1719216000-1719594000@skcscouts.org
SUMMARY:2024 Frontier District Day Camp
DESCRIPTION:Frontier District Day Camp: “CUBstruction”\nAre you ready for Cub Scout Day Camp? Then have your Cub Scout grab their gear and join us for an awesome adventure! Scouts will participate in many types of activities including archery\, BB-guns\, field sports\, nature\, arts and crafts\, Scout skills\, and all-around FUN! \nDay Camp youth participants are limited to registered Cub Scouts members. When selecting RANK in your registration\, you should use the den that the Scout will be entering for the 2024-2025 school year.  \n\nTiger (entering 1st grade)\nWolf (entering 2nd grade)\nBear (entering 3rd grade)\nWebelos (entering the 4th grade)\nArrow of Light (entering 5th grade)\n\nWhen: Monday\, June 24 – Friday\, June 28\, 2024\nTime: 8AM – 5 PM\nWhere: Camp Oyo\nCost: $100 until April 1 \nQuestions? Contact: Gary Jenkins or John Hardy \nRegistration closes on June 10 at 11:59pm \nRegister
URL:https://skcscouts.org/event/2024-frontier-district-day-camp/
LOCATION:Camp Oyo\, 168 Shawnee Rd\, West Portsmouth\, OH\, 45663\, United States
CATEGORIES:Cub Scout Activities,Cub Scout Day Camps,Districts,Frontier District,Youth Activities
END:VEVENT
BEGIN:VEVENT
DTSTART;TZID=America/New_York:20240623T140000
DTEND;TZID=America/New_York:20240629T100000
DTSTAMP:20260424T085748
CREATED:20221222T174538Z
LAST-MODIFIED:20240124T164304Z
UID:10000187-1719151200-1719655200@skcscouts.org
SUMMARY:2024 Summer Camp: Week 2
DESCRIPTION:2024 Summer Camp: Week 2\nWhen: June 23 – 29\, 2024\nWhere: Camp Falling Rock \nRegister
URL:https://skcscouts.org/event/2024-summer-camp-week-2/
LOCATION:Camp Falling Rock\, 12637 Houdeshell Rd\, Newark\, OH\, 43055\, United States
CATEGORIES:Daybreak,Districts,Frontier District,Gateway,Polaris,Scouts BSA Activities,Scouts BSA Resident Camp,Summer Camps,Venturing Activities,Youth Activities
END:VEVENT
BEGIN:VEVENT
DTSTART;TZID=America/New_York:20240616T140000
DTEND;TZID=America/New_York:20240622T100000
DTSTAMP:20260424T085748
CREATED:20221222T174247Z
LAST-MODIFIED:20240124T164121Z
UID:10000186-1718546400-1719050400@skcscouts.org
SUMMARY:2024 Summer Camp: Week 1
DESCRIPTION:2024 Summer Camp: Week 1\nWhen: June 16-22\, 2024\nWhere: Camp Falling Rock \nRegister
URL:https://skcscouts.org/event/2024-summer-camp-week-1/
LOCATION:Camp Falling Rock\, 12637 Houdeshell Rd\, Newark\, OH\, 43055\, United States
CATEGORIES:Daybreak,Districts,Frontier District,Gateway,Polaris,Scouts BSA Activities,Scouts BSA Resident Camp,Summer Camps,Venturing Activities,Youth Activities
END:VEVENT
BEGIN:VEVENT
DTSTART;TZID=America/New_York:20240610T100000
DTEND;TZID=America/New_York:20240613T200000
DTSTAMP:20260424T085748
CREATED:20221222T174031Z
LAST-MODIFIED:20240117T201826Z
UID:10000185-1718013600-1718308800@skcscouts.org
SUMMARY:2024 Webelos Summer Camp
DESCRIPTION:2024 Webelos Summer Camp\nWelcome to Webelos Summer Camp!\nSummer camp is one of the highlights of a pack’s year-round program. Resident Camp is a 4 day\, 3 night over night camping experience designed to introduce Webelos\, their leaders\, and their parents to theme-based summertime camping experience.\nWhen: Monday\, June 10 – Thursday\, June 13\, 2024 \nWhere: Camp Falling Rock \nCost: $180 if registered by March 31st \nQuestions? Contact: Shannon Langer \nRegister
URL:https://skcscouts.org/event/2024-webelos-summer-camp/
LOCATION:Camp Falling Rock\, 12637 Houdeshell Rd\, Newark\, OH\, 43055\, United States
CATEGORIES:Cub Scout Activities,Daybreak,Districts,Frontier District,Gateway,Polaris,Webelos,Webelos Resident Camp,Youth Activities
END:VEVENT
BEGIN:VEVENT
DTSTART;TZID=America/New_York:20240610T080000
DTEND;TZID=America/New_York:20240614T160000
DTSTAMP:20260424T085748
CREATED:20220111T182518Z
LAST-MODIFIED:20240502T181802Z
UID:10000182-1718006400-1718380800@skcscouts.org
SUMMARY:2024 Red Arrow Day Camp
DESCRIPTION:Red Arrow Day Camp: “CUBstruction”\nAre you ready for Cub Scout Day Camp? Then have your Cub Scout grab their gear and join us for an awesome adventure! Scouts will participate in many types of activities including archery\, BB-guns\, field sports\, nature\, arts and crafts\, Scout skills\, and all-around FUN! \nDay Camp youth participants are limited to registered Cub Scouts members. When selecting RANK in your registration\, you should use the den that the Scout will be entering for the 2024-2025 school year.  \n\nTiger (entering 1st grade)\nWolf (entering 2nd grade)\nBear (entering 3rd grade)\nWebelos (entering the 4th grade)\nArrow of Light (entering 5th grade)\n\nWhen: Monday\, June 10 – Friday\, June 14\, 2024\nTime: 8 AM – 4 PM\nWhere: Hocking Valley Sportsman – 5989 Radford Rd\, Athens\, OH 45701\nCost: The Early Bird cost of Cub Scout Day camp is $100. (After March 31\, the cost increases to $120 per Scout) \nQuestions? Contact: Therese Buckhardt or Chas Kenawell \nRegistration closes on Monday\, May 31\, 2024 at 11:59 PM \nRegister
URL:https://skcscouts.org/event/2024-red-arrow-day-camp/
LOCATION:Hocking Valley Sportman\, 5989 Radford Road\, Athens\, OH\, 45701\, United States
CATEGORIES:Cub Scout Activities,Cub Scout Day Camps,Daybreak,Districts,Youth Activities
END:VEVENT
BEGIN:VEVENT
DTSTART;TZID=America/New_York:20240603T080000
DTEND;TZID=America/New_York:20240607T170000
DTSTAMP:20260424T085748
CREATED:20240125T212027Z
LAST-MODIFIED:20240125T212930Z
UID:10000406-1717401600-1717779600@skcscouts.org
SUMMARY:2024 Great Seal Day Camp
DESCRIPTION:Great Seal Day Camp: “CUBstruction”\nAre you ready for Cub Scout Day Camp? Then have your Cub Scout grab their gear and join us for an awesome adventure! Scouts will participate in many types of activities including archery\, BB-guns\, field sports\, nature\, arts and crafts\, Scout skills\, and all-around FUN! \nDay Camp youth participants are limited to registered Cub Scouts members. When selecting RANK in your registration\, you should use the den that the Scout will be entering for the 2024-2025 school year.  \n\nTiger (entering 1st grade)\nWolf (entering 2nd grade)\nBear (entering 3rd grade)\nWebelos (entering the 4th grade)\nArrow of Light (entering 5th grade)\n\nWhen: Monday\, June 3 – Friday\, June 7\, 2024\nTime: 8AM – 5 PM\nWhere: Scioto Trail State Park\nCost: $100 before April 1 \nQuestions? Contact: Tami Kraynek or John Hardy \nRegistration closes on May 29\, 2024 \nRegister
URL:https://skcscouts.org/event/2024-great-seal-day-camp/
LOCATION:Scioto Trail State Park\, 144 Lake Rd\, Chillicothe\, OH\, 45601
CATEGORIES:Cub Scout Activities,Cub Scout Day Camps,Districts,Frontier District,Youth Activities
END:VEVENT
BEGIN:VEVENT
DTSTART;TZID=America/New_York:20240603T080000
DTEND;TZID=America/New_York:20240607T170000
DTSTAMP:20260424T085748
CREATED:20221222T172313Z
LAST-MODIFIED:20240125T211104Z
UID:10000335-1717401600-1717779600@skcscouts.org
SUMMARY:2024 Daybreak District Day Camp
DESCRIPTION:Daybreak District Day Camp: “CUBstruction”\nAre you ready for Cub Scout Day Camp? Then have your Cub Scout grab their gear and join us for an awesome adventure! Scouts will participate in many types of activities including archery\, BB-guns\, field sports\, nature\, arts and crafts\, Scout skills\, and all-around FUN! \nDay Camp youth participants are limited to registered Cub Scouts members. When selecting RANK in your registration\, you should use the den that the Scout will be entering for the 2024-2025 school year.  \n\nTiger (entering 1st grade)\nWolf (entering 2nd grade)\nBear (entering 3rd grade)\nWebelos (entering the 4th grade)\nArrow of Light (entering 5th grade)\n\nWhen: Monday\, June 3 – Friday\, June 7\, 2024\nTime: 8AM – 5 PM\nWhere: Camp Falling Rock\nCost: $100 before April 1 \nQuestions? Contact: Joe Shaluha or James Dockter \nRegistration closes on May 29\, 2024 \nRegister
URL:https://skcscouts.org/event/2024-daybreak-district-day-camp/
LOCATION:Camp Falling Rock\, 12637 Houdeshell Rd\, Newark\, OH\, 43055\, United States
CATEGORIES:Cub Scout Activities,Cub Scout Day Camps,Daybreak,Districts,Youth Activities
END:VEVENT
BEGIN:VEVENT
DTSTART;TZID=America/New_York:20240517T170000
DTEND;TZID=America/New_York:20240519T110000
DTSTAMP:20260424T085748
CREATED:20220511T162907Z
LAST-MODIFIED:20231213T192109Z
UID:10000196-1715965200-1716116400@skcscouts.org
SUMMARY:Frontier District Spring Cub Olympics 2024
DESCRIPTION:Frontier District Spring Cub Olympics\nThe cubs will compete in “Olympic” inspired events that have been enhanced for cub scouts. skill relays\, field events\, shooting sports and other “Olympic ” activities will challenge your cubs and entertain all.\nWhen: Friday\, May 17\, 2024 – Sunday\, May 19\, 2024\nWhere: Camp Oyo\nCost: $20 per Scout (Before Monday\, April 29\, 2024) | $25 per Scout (Starting April 29\, 2024)\nCheck-In: Friday\, May 17 at 5 PM\nCheck-Out: Sunday\, May 19 at 11:00 AM \nRegistration deadline: Friday\, May10\, 2024 at 11:59 PM \nREGISTER
URL:https://skcscouts.org/event/frontier-district-spring-cub-olympics-2024/
LOCATION:Camp Oyo\, 168 Shawnee Rd\, West Portsmouth\, OH\, 45663\, United States
CATEGORIES:Cub Scout Activities,Districts,Frontier District,Youth Activities
END:VEVENT
BEGIN:VEVENT
DTSTART;TZID=America/New_York:20240503T180000
DTEND;TZID=America/New_York:20240505T100000
DTSTAMP:20260424T085748
CREATED:20220728T145800Z
LAST-MODIFIED:20230204T132647Z
UID:10000069-1714759200-1714903200@skcscouts.org
SUMMARY:2024 Polaris District Spring Camporee
DESCRIPTION:2024 Polaris Spring Camporee\nSpring Camporee Details Coming Soon \nWhen: May 3-5\, 2024\nWhere: Camp Lazarus\nTime: Friday at 6 PM – Sunday at 10 AM\nCost: $15 per person \nRegistration deadline is Friday\, April 19\, 2024 \nQuestions? Contact:\nJT Trouten at (937)-243-3079 or jtrout71@gmail.com \nRegister
URL:https://skcscouts.org/event/2024-polaris-district-spring-camporee/
LOCATION:Camp Lazarus\, 4422 Columbus Pike\, Delaware\, OH\, 43015\, United States
CATEGORIES:Districts,Polaris,Scouts BSA Activities,Youth Activities
END:VEVENT
BEGIN:VEVENT
DTSTART;TZID=America/New_York:20240426T180000
DTEND;TZID=America/New_York:20240428T180000
DTSTAMP:20260424T085748
CREATED:20231103T184327Z
LAST-MODIFIED:20231103T184327Z
UID:10000385-1714154400-1714327200@skcscouts.org
SUMMARY:2024 Gateway District Spring Camporee
DESCRIPTION:Finding Robin Hood Camporee\nRobin Hood is missing! Try your hand at completing different tasks to get clues on where Robin Hood can be found. \nBe careful! These challenges may be more than a single person can handle. Look forward to Rappelling\, Archery\, Pioneering\, and more. \nMore Information and Registration
URL:https://skcscouts.org/event/2024-gateway-district-spring-camporee/
LOCATION:Camp Falling Rock\, 12637 Houdeshell Rd\, Newark\, OH\, 43055\, United States
CATEGORIES:Gateway,Scouts BSA Activities
ORGANIZER;CN="David Campbell":MAILTO:j.campbell31337@gmail.com
END:VEVENT
BEGIN:VEVENT
DTSTART;TZID=America/New_York:20240426T170000
DTEND;TZID=America/New_York:20240428T110000
DTSTAMP:20260424T085748
CREATED:20221011T153230Z
LAST-MODIFIED:20231213T193602Z
UID:10000302-1714150800-1714302000@skcscouts.org
SUMMARY:Frontier Spring Camporee
DESCRIPTION:Come test your survival scout skills this spring at Camp Oyo. Are you ready to face the great outdoors with your knowledge of ropes\, first aid\, fire building and other scout skills? \nWhen: April 26 – April 28\, 2024 starting at 5:00 PM \nWhere: Camp Oyo \nCost: $20 youth\, $10 adult \nQuestions? Les Davisson \nREGISTER\n 
URL:https://skcscouts.org/event/frontiers-spring-camporee-oyos-amazing-race/
LOCATION:Camp Oyo\, 168 Shawnee Rd\, West Portsmouth\, OH\, 45663\, United States
CATEGORIES:Daybreak,Frontier District,Gateway,Polaris,Youth Activities
END:VEVENT
END:VCALENDAR