BEGIN:VCALENDAR
VERSION:2.0
PRODID:-//Simon Kenton Council - ECPv6.15.20//NONSGML v1.0//EN
CALSCALE:GREGORIAN
METHOD:PUBLISH
X-WR-CALNAME:Simon Kenton Council
X-ORIGINAL-URL:https://skcscouts.org
X-WR-CALDESC:Events for Simon Kenton Council
REFRESH-INTERVAL;VALUE=DURATION:PT1H
X-Robots-Tag:noindex
X-PUBLISHED-TTL:PT1H
BEGIN:VTIMEZONE
TZID:America/New_York
BEGIN:DAYLIGHT
TZOFFSETFROM:-0500
TZOFFSETTO:-0400
TZNAME:EDT
DTSTART:20230312T070000
END:DAYLIGHT
BEGIN:STANDARD
TZOFFSETFROM:-0400
TZOFFSETTO:-0500
TZNAME:EST
DTSTART:20231105T060000
END:STANDARD
BEGIN:DAYLIGHT
TZOFFSETFROM:-0500
TZOFFSETTO:-0400
TZNAME:EDT
DTSTART:20240310T070000
END:DAYLIGHT
BEGIN:STANDARD
TZOFFSETFROM:-0400
TZOFFSETTO:-0500
TZNAME:EST
DTSTART:20241103T060000
END:STANDARD
BEGIN:DAYLIGHT
TZOFFSETFROM:-0500
TZOFFSETTO:-0400
TZNAME:EDT
DTSTART:20250309T070000
END:DAYLIGHT
BEGIN:STANDARD
TZOFFSETFROM:-0400
TZOFFSETTO:-0500
TZNAME:EST
DTSTART:20251102T060000
END:STANDARD
END:VTIMEZONE
BEGIN:VEVENT
DTSTART;TZID=America/New_York:20240610T080000
DTEND;TZID=America/New_York:20240614T160000
DTSTAMP:20260424T114642
CREATED:20220111T182518Z
LAST-MODIFIED:20240502T181802Z
UID:10000182-1718006400-1718380800@skcscouts.org
SUMMARY:2024 Red Arrow Day Camp
DESCRIPTION:Red Arrow Day Camp: “CUBstruction”\nAre you ready for Cub Scout Day Camp? Then have your Cub Scout grab their gear and join us for an awesome adventure! Scouts will participate in many types of activities including archery\, BB-guns\, field sports\, nature\, arts and crafts\, Scout skills\, and all-around FUN! \nDay Camp youth participants are limited to registered Cub Scouts members. When selecting RANK in your registration\, you should use the den that the Scout will be entering for the 2024-2025 school year.  \n\nTiger (entering 1st grade)\nWolf (entering 2nd grade)\nBear (entering 3rd grade)\nWebelos (entering the 4th grade)\nArrow of Light (entering 5th grade)\n\nWhen: Monday\, June 10 – Friday\, June 14\, 2024\nTime: 8 AM – 4 PM\nWhere: Hocking Valley Sportsman – 5989 Radford Rd\, Athens\, OH 45701\nCost: The Early Bird cost of Cub Scout Day camp is $100. (After March 31\, the cost increases to $120 per Scout) \nQuestions? Contact: Therese Buckhardt or Chas Kenawell \nRegistration closes on Monday\, May 31\, 2024 at 11:59 PM \nRegister
URL:https://skcscouts.org/event/2024-red-arrow-day-camp/
LOCATION:Hocking Valley Sportman\, 5989 Radford Road\, Athens\, OH\, 45701\, United States
CATEGORIES:Cub Scout Activities,Cub Scout Day Camps,Daybreak,Districts,Youth Activities
END:VEVENT
END:VCALENDAR