BEGIN:VCALENDAR
VERSION:2.0
PRODID:-//Simon Kenton Council - ECPv6.15.20//NONSGML v1.0//EN
CALSCALE:GREGORIAN
METHOD:PUBLISH
X-ORIGINAL-URL:https://skcscouts.org
X-WR-CALDESC:Events for Simon Kenton Council
REFRESH-INTERVAL;VALUE=DURATION:PT1H
X-Robots-Tag:noindex
X-PUBLISHED-TTL:PT1H
BEGIN:VTIMEZONE
TZID:America/New_York
BEGIN:DAYLIGHT
TZOFFSETFROM:-0500
TZOFFSETTO:-0400
TZNAME:EDT
DTSTART:20230312T070000
END:DAYLIGHT
BEGIN:STANDARD
TZOFFSETFROM:-0400
TZOFFSETTO:-0500
TZNAME:EST
DTSTART:20231105T060000
END:STANDARD
BEGIN:DAYLIGHT
TZOFFSETFROM:-0500
TZOFFSETTO:-0400
TZNAME:EDT
DTSTART:20240310T070000
END:DAYLIGHT
BEGIN:STANDARD
TZOFFSETFROM:-0400
TZOFFSETTO:-0500
TZNAME:EST
DTSTART:20241103T060000
END:STANDARD
BEGIN:DAYLIGHT
TZOFFSETFROM:-0500
TZOFFSETTO:-0400
TZNAME:EDT
DTSTART:20250309T070000
END:DAYLIGHT
BEGIN:STANDARD
TZOFFSETFROM:-0400
TZOFFSETTO:-0500
TZNAME:EST
DTSTART:20251102T060000
END:STANDARD
END:VTIMEZONE
BEGIN:VEVENT
DTSTART;TZID=America/New_York:20240722T090000
DTEND;TZID=America/New_York:20240726T160000
DTSTAMP:20260424T105937
CREATED:20240126T151611Z
LAST-MODIFIED:20240126T151633Z
UID:10000407-1721638800-1722009600@skcscouts.org
SUMMARY:2024 Rocky Fork Day Camp
DESCRIPTION:Rocky Fork Day Camp: “CUBstruction”\nAre you ready for Cub Scout Day Camp? Then have your Cub Scout grab their gear and join us for an awesome adventure! Scouts will participate in many types of activities including archery\, BB-guns\, field sports\, nature\, arts and crafts\, Scout skills\, and all-around FUN! \nDay Camp youth participants are limited to registered Cub Scouts members. When selecting RANK in your registration\, you should use the den that the Scout will be entering for the 2024-2025 school year.  \n\nTiger (entering 1st grade)\nWolf (entering 2nd grade)\nBear (entering 3rd grade)\nWebelos (entering the 4th grade)\nArrow of Light (entering 5th grade)\n\nWhen: Monday\, July 22 – Friday\, July 26\, 2024\nTime: 9 AM – 4 PM\nWhere: Rocky Fork State Park\nCost: The Early Bird cost of Cub Scout Day camp is $100. (After March 31\, the cost increases to $120 per Scout) \nQuestions? Contact: Abby Howard or Nathan White \nRegistration closes on Monday\, July 11\, 2024 at 11:59 PM \nRegister
URL:https://skcscouts.org/event/2024-rocky-fork-day-camp/
LOCATION:Rocky Fork State Park\, 9800 N Shore Drive\, Hillsboro\, OH\, 45133\, United States
CATEGORIES:Cub Scout Activities,Cub Scout Day Camps,Districts,Frontier District,Youth Activities
END:VEVENT
END:VCALENDAR