BEGIN:VCALENDAR
VERSION:2.0
PRODID:-//Simon Kenton Council - ECPv6.15.20//NONSGML v1.0//EN
CALSCALE:GREGORIAN
METHOD:PUBLISH
X-ORIGINAL-URL:https://skcscouts.org
X-WR-CALDESC:Events for Simon Kenton Council
REFRESH-INTERVAL;VALUE=DURATION:PT1H
X-Robots-Tag:noindex
X-PUBLISHED-TTL:PT1H
BEGIN:VTIMEZONE
TZID:America/New_York
BEGIN:DAYLIGHT
TZOFFSETFROM:-0500
TZOFFSETTO:-0400
TZNAME:EDT
DTSTART:20230312T070000
END:DAYLIGHT
BEGIN:STANDARD
TZOFFSETFROM:-0400
TZOFFSETTO:-0500
TZNAME:EST
DTSTART:20231105T060000
END:STANDARD
BEGIN:DAYLIGHT
TZOFFSETFROM:-0500
TZOFFSETTO:-0400
TZNAME:EDT
DTSTART:20240310T070000
END:DAYLIGHT
BEGIN:STANDARD
TZOFFSETFROM:-0400
TZOFFSETTO:-0500
TZNAME:EST
DTSTART:20241103T060000
END:STANDARD
BEGIN:DAYLIGHT
TZOFFSETFROM:-0500
TZOFFSETTO:-0400
TZNAME:EDT
DTSTART:20250309T070000
END:DAYLIGHT
BEGIN:STANDARD
TZOFFSETFROM:-0400
TZOFFSETTO:-0500
TZNAME:EST
DTSTART:20251102T060000
END:STANDARD
END:VTIMEZONE
BEGIN:VEVENT
DTSTART;TZID=America/New_York:20240603T080000
DTEND;TZID=America/New_York:20240607T170000
DTSTAMP:20260424T110107
CREATED:20240125T212027Z
LAST-MODIFIED:20240125T212930Z
UID:10000406-1717401600-1717779600@skcscouts.org
SUMMARY:2024 Great Seal Day Camp
DESCRIPTION:Great Seal Day Camp: “CUBstruction”\nAre you ready for Cub Scout Day Camp? Then have your Cub Scout grab their gear and join us for an awesome adventure! Scouts will participate in many types of activities including archery\, BB-guns\, field sports\, nature\, arts and crafts\, Scout skills\, and all-around FUN! \nDay Camp youth participants are limited to registered Cub Scouts members. When selecting RANK in your registration\, you should use the den that the Scout will be entering for the 2024-2025 school year.  \n\nTiger (entering 1st grade)\nWolf (entering 2nd grade)\nBear (entering 3rd grade)\nWebelos (entering the 4th grade)\nArrow of Light (entering 5th grade)\n\nWhen: Monday\, June 3 – Friday\, June 7\, 2024\nTime: 8AM – 5 PM\nWhere: Scioto Trail State Park\nCost: $100 before April 1 \nQuestions? Contact: Tami Kraynek or John Hardy \nRegistration closes on May 29\, 2024 \nRegister
URL:https://skcscouts.org/event/2024-great-seal-day-camp/
LOCATION:Scioto Trail State Park\, 144 Lake Rd\, Chillicothe\, OH\, 45601
CATEGORIES:Cub Scout Activities,Cub Scout Day Camps,Districts,Frontier District,Youth Activities
END:VEVENT
END:VCALENDAR