BEGIN:VCALENDAR
VERSION:2.0
PRODID:-//Simon Kenton Council - ECPv6.15.20//NONSGML v1.0//EN
CALSCALE:GREGORIAN
METHOD:PUBLISH
X-WR-CALNAME:Simon Kenton Council
X-ORIGINAL-URL:https://skcscouts.org
X-WR-CALDESC:Events for Simon Kenton Council
REFRESH-INTERVAL;VALUE=DURATION:PT1H
X-Robots-Tag:noindex
X-PUBLISHED-TTL:PT1H
BEGIN:VTIMEZONE
TZID:America/New_York
BEGIN:DAYLIGHT
TZOFFSETFROM:-0500
TZOFFSETTO:-0400
TZNAME:EDT
DTSTART:20230312T070000
END:DAYLIGHT
BEGIN:STANDARD
TZOFFSETFROM:-0400
TZOFFSETTO:-0500
TZNAME:EST
DTSTART:20231105T060000
END:STANDARD
BEGIN:DAYLIGHT
TZOFFSETFROM:-0500
TZOFFSETTO:-0400
TZNAME:EDT
DTSTART:20240310T070000
END:DAYLIGHT
BEGIN:STANDARD
TZOFFSETFROM:-0400
TZOFFSETTO:-0500
TZNAME:EST
DTSTART:20241103T060000
END:STANDARD
BEGIN:DAYLIGHT
TZOFFSETFROM:-0500
TZOFFSETTO:-0400
TZNAME:EDT
DTSTART:20250309T070000
END:DAYLIGHT
BEGIN:STANDARD
TZOFFSETFROM:-0400
TZOFFSETTO:-0500
TZNAME:EST
DTSTART:20251102T060000
END:STANDARD
END:VTIMEZONE
BEGIN:VEVENT
DTSTART;TZID=America/New_York:20241219T163000
DTEND;TZID=America/New_York:20241219T180000
DTSTAMP:20260424T065955
CREATED:20230206T203639Z
LAST-MODIFIED:20230206T203639Z
UID:10000339-1734625800-1734631200@skcscouts.org
SUMMARY:Council Executive Committee Meeting
DESCRIPTION:Meeting for elected officers of the Council’s Executive Board.   \nQuestions? Contact Terri Hearn 
URL:https://skcscouts.org/event/council-executive-committee-meeting-8/
LOCATION:Simon Kenton Council Leadership Development Center\, 807 Kinnear Rd\, Columbus\, OH\, 43212\, United States
CATEGORIES:Council
END:VEVENT
BEGIN:VEVENT
DTSTART;TZID=America/New_York:20241017T163000
DTEND;TZID=America/New_York:20241017T180000
DTSTAMP:20260424T065955
CREATED:20230206T203337Z
LAST-MODIFIED:20230206T203337Z
UID:10000340-1729182600-1729188000@skcscouts.org
SUMMARY:Council Executive Committee Meeting
DESCRIPTION:Meeting for elected officers of the Council’s Executive Board.   \nQuestions? Contact Terri Hearn 
URL:https://skcscouts.org/event/council-executive-committee-meeting-7/
LOCATION:Simon Kenton Council Leadership Development Center\, 807 Kinnear Rd\, Columbus\, OH\, 43212\, United States
CATEGORIES:Council
END:VEVENT
BEGIN:VEVENT
DTSTART;TZID=America/New_York:20240815T163000
DTEND;TZID=America/New_York:20240815T180000
DTSTAMP:20260424T065955
CREATED:20230206T202642Z
LAST-MODIFIED:20230206T202642Z
UID:10000341-1723739400-1723744800@skcscouts.org
SUMMARY:Council Executive Committee Meeting
DESCRIPTION:Meeting for elected officers of the Council’s Executive Board.   \nQuestions? Contact Terri Hearn 
URL:https://skcscouts.org/event/council-executive-committee-meeting-6/
LOCATION:Simon Kenton Council Leadership Development Center\, 807 Kinnear Rd\, Columbus\, OH\, 43212\, United States
CATEGORIES:Council
END:VEVENT
BEGIN:VEVENT
DTSTART;TZID=America/New_York:20240620T163000
DTEND;TZID=America/New_York:20240620T180000
DTSTAMP:20260424T065955
CREATED:20230207T143408Z
LAST-MODIFIED:20230207T143408Z
UID:10000368-1718901000-1718906400@skcscouts.org
SUMMARY:Council Executive Board Meeting
DESCRIPTION:Meeting for elected members of the council’s executive board \nQuestions? Contact Terri Hearn
URL:https://skcscouts.org/event/council-executive-board-meeting-7/
LOCATION:Simon Kenton Council Leadership Development Center\, 807 Kinnear Rd\, Columbus\, OH\, 43212\, United States
CATEGORIES:Council
END:VEVENT
BEGIN:VEVENT
DTSTART;TZID=America/New_York:20240516T163000
DTEND;TZID=America/New_York:20240516T180000
DTSTAMP:20260424T065955
CREATED:20230206T202505Z
LAST-MODIFIED:20230206T202505Z
UID:10000342-1715877000-1715882400@skcscouts.org
SUMMARY:Council Executive Committee Meeting
DESCRIPTION:Meeting for elected officers of the Council’s Executive Board.   \nQuestions? Contact Terri Hearn 
URL:https://skcscouts.org/event/council-executive-committee-meeting-5/
LOCATION:Simon Kenton Council Leadership Development Center\, 807 Kinnear Rd\, Columbus\, OH\, 43212\, United States
CATEGORIES:Council
END:VEVENT
END:VCALENDAR